BEGIN:VCALENDAR
VERSION:2.0
PRODID:-//AudioTheme 3.0.2
BEGIN:VEVENT
UID:urn:uuid:4a84ed42-9218-4b74-b151-f771b78d095b
URL:https://andrewlist.com/events/le-pont-universel-for-solo-piano/
DTSTART;TZID=GMT:20260417T220000
SUMMARY:Le Pont Universel for Solo Piano (West Coast Premiere)
DESCRIPTION:Performed by Stephen Porter\, piano   As part of a composers residency at the conservatory
LOCATION:San Francisco Conservatory of Music\, 50 Oak St.\, San Francisco\, CA\, 94102
END:VEVENT
END:VCALENDAR
