BEGIN:VCALENDAR
VERSION:2.0
PRODID:-//AudioTheme 3.0.2
BEGIN:VEVENT
UID:urn:uuid:8bbd51f1-0bbc-44c5-8feb-8cc71f9c62bd
URL:https://andrewlist.com/events/string-quartet-no-6-song-of-the-angel-european-premiere/
DTSTART;TZID=GMT:20260323T150000
SUMMARY:String Quartet no. 6 "Song of the Angel" (European Premiere)
DESCRIPTION:performed by the Wassily Kandinsky String Quartet 
LOCATION:Aram Khachaturian Museum\, 3 Zarobyan St.\, Yerevan\, \, Armenia\, 0009
END:VEVENT
END:VCALENDAR
